Workbook

Sheet 29.10 (10-13)
A1: № п/п | B1: слот | C1: № команды | D1: Наименование команды | E1: Лидер | F1: Трекер | G1: формат
A2: 1 | B2: 10.00 | C2: 70 | D2: KoRS | E2: Корсаков Кирилл | F2: Сиверин | G2: офлайн
A3: 2 | B3: 10.10 | C3: 61 | D3: Онлайн-платформа для поиска инвесторов и заемщиков из субъектов МСП "Бизнес Инвест" | E3: Фомина Юлия | F3: Голлай А. | G3: офлайн
A4: 3 | B4: 10.20 | C4: 51 | D4: VR Engine | E4: Усова Виктория | F4: Сиверин | G4: офлайн
A5: 4 | B5: 10.30 | C5: 44 | D5: Sport Map | E5: Павлов Даниил | F5: Черкашин | G5: онлайн
A6: 5 | B6: 10.40 | C6: 22 | D6: Балкончик | E6: Бухаров Артем | F6: Литке | G6: офлайн
A7: 6 | B7: 10.50 | C7: 11 | D7: Чойз - виртуальный консультант | E7: Тяжкова Екатерина | F7: Эпп | G7: онлайн
A8: 7 | B8: 11.00 | C8: 53 | D8: Techinnovate | E8: Данилин Богдан | F8: Сиверин | G8: офлайн
A9: 8 | B9: 11.10 | C9: 84 | D9: Интеллектуальная платформа для сортировки продукции | E9: Зайков Дмитрий | F9: Пискорский | G9: офлайн
A10: 9 | B10: 11.20 | C10: 95 | D10: Кампусовская метовселенная | E10: Сластников Никита | F10: Голлай И. | G10: онлайн
A11: 10 | B11: 11.30 | C11: 94 | D11: РДСим | E11: Замиралов Владислав | F11: Спицын | G11: онлайн
A12: 11 | B12: 11.40 | C12: 76 | D12: V&E MODELS | E12: Грибова Елизавета | F12: Бутрина | G12: офлайн
A13: 12 | B13: 11.50 | C13: 17 | D13: Платформа для обеспечения взаимодействия кампуса | E13: Цветков Максим | F13: Болотова | G13: онлайн
... A17: 16 | B17: 12.30 | C17: 59 | D17: Программное средство проектирования и визуализации ландшафтных и инженерных решений "TerraEngine" | E17: Наумов Глеб | F17: Спицын | G17: онлайн
A18: 17 | B18: 12.40
A19: 18 | B19: 12.50 | C19: 71 | D19: Агрегатор походов тУрал | E19: Окладов Тимофей | F19: Сиверин | G19: офлайн

Sheet 29.10 (14-17)
A1: ='29.10 (10-13)'!A1 -> № п/п | B1: ='29.10 (10-13)'!B1 -> слот | C1: ='29.10 (10-13)'!C1 -> № команды | D1: ='29.10 (10-13)'!D1 -> Наименование команды | E1: ='29.10 (10-13)'!E1 -> Лидер | F1: ='29.10 (10-13)'!F1 -> Трекер | G1: ='29.10 (10-13)'!G1 -> формат
A2: 1 | B2: 14.00 | C2: 25 | D2: Studcheck | E2: Титов Вячеслав | F2: Никифорова | G2: онлайн
A3: 2 | B3: 14.10 | C3: 47 | D3: Система автоматической модернизации контента с целью обнаружения и удаления hate speech | E3: Родин Павел | F3: Бунова | G3: онлайн
A4: 3 | B4: 14.20 | C4: 63 | D4: LBM (learn by map) | E4: Парса Абангах | F4: Никифорова | G4: офлайн
A5: 4 | B5: 14.30 | C5: 50 | D5: 3DSoft | E5: Перминов Юрий | F5: Лысов | G5: офлайн
A6: 5 | B6: 14.40 | C6: 37 | D6: Техоснастка | E6: Пахомов Артем | F6: Литке | G6: офлайн
A7: 6 | B7: 14.50 | C7: 65 | D7: Твой помощник здоровья | E7: Банин Артем | F7: Нарышкина | G7: офлайн
A8: 7 | B8: 15.00 | C8: 10 | D8: Стройподбор | E8: Валиева Софья | F8: Литке | G8: офлайн
A9: 8 | B9: 15.10 | C9: 72 | D9: Aromodif | E9: Фатихов Эрик | F9: Сиверин | G9: офлайн
A10: 9 | B10: 15.20 | C10: 60 | D10: ИСТОК | E10: Еремин Алексей | F10: Дзензелюк | G10: офлайн
A11: 10 | B11: 15.30 | C11: 88 | D11: Ферментрованные напитки | E11: Филипков Павел | F11: Правдина | G11: офлайн
A12: 11 | B12: 15.40 | C12: 14 | D12: Цифровой маркет-плейс | E12: Иванов Ярослав | F12: Литке | G12: офлайн
A13: 12 | B13: 15.50 | C13: 99 | D13: Мир науки в искусстве "Созвездие танца" | E13: Куликов Владимир | F13: Литке | G13: онлайн
... A19: 18 | B19: 16.50 | C19: 7 | D19: ФинлАндия | E19: Шарипов Радмир | F19: Бутрина | G19: офлайн

Sheet 30.10 (10-13)
A1: ='29.10 (10-13)'!A1 -> № п/п | B1: ='29.10 (10-13)'!B1 -> слот | C1: ='29.10 (10-13)'!C1 -> № команды | D1: ='29.10 (10-13)'!D1 -> Наименование команды | E1: ='29.10 (10-13)'!E1 -> Лидер | F1: ='29.10 (10-13)'!F1 -> Трекер | G1: ='29.10 (10-13)'!G1 -> формат
A2: ='29.10 (10-13)'!A2 -> 1 | B2: ='29.10 (10-13)'!B2 -> 10.00 | C2: 52 | D2: Модульный дизайн | E2: Мафонов Евгений | F2: Бунова | G2: онлайн
A3: ='29.10 (10-13)'!A3 -> 2 | B3: ='29.10 (10-13)'!B3 -> 10.10 | C3: 40 | D3: Робот для покраски зданий | E3: Фролов Станислав | F3: Болотова | G3: офлайн
A4: ='29.10 (10-13)'!A4 -> 3 | B4: ='29.10 (10-13)'!B4 -> 10.20 | C4: 39 | D4: БУТП беспилотное устройство транспортировка пациентов | F4: Эпп | G4: онлайн
A5: ='29.10 (10-13)'!A5 -> 4 | B5: ='29.10 (10-13)'!B5 -> 10.30 | C5: 29 | D5: Мир финансов: развитие навыков финансовой грамотности у детей с нарушениями слуха | E5: Дьяченко Дмитрий | F5: Голлай А. | G5: офлайн
A6: ='29.10 (10-13)'!A6 -> 5 | B6: ='29.10 (10-13)'!B6 -> 10.40 | C6: 36 | D6: VAKod | E6: Быков Константин | F6: Пашнин | G6: офлайн
A7: ='29.10 (10-13)'!A7 -> 6 | B7: ='29.10 (10-13)'!B7 -> 10.50 | C7: 42 | D7: Приложение "Умная мама" | E7: Воропаев Алексадр | F7: Голлай И. | G7: офлайн
A8: ='29.10 (10-13)'!A8 -> 7 | B8: ='29.10 (10-13)'!B8 -> 11.00 | C8: 85 | D8: Юрист.NET | E8: Адулина Елизавета | F8: Бутрина | G8: онлайн
A9: ='29.10 (10-13)'!A9 -> 8 | B9: ='29.10 (10-13)'!B9 -> 11.10 | C9: 41 | D9: Туристический маркетплейс Южного Урала | E9: Корнейчук Владимир | F9: Нарышкина | G9: офлайн
A10: ='29.10 (10-13)'!A10 -> 9 | B10: ='29.10 (10-13)'!B10 -> 11.20 | C10: 24 | D10: ТендерТрекер | E10: Шахвалеева София | F10: Голлай | G10: офлайн
A11: ='29.10 (10-13)'!A11 -> 10 | B11: ='29.10 (10-13)'!B11 -> 11.30 | C11: 98 | D11: Свежесть на тарелке | E11: Кудина Ольга | F11: Пискорский | G11: онлайн
A12: ='29.10 (10-13)'!A12 -> 11 | B12: ='29.10 (10-13)'!B12 -> 11.40 | C12: 57 | D12: SmartEcoH | E12: Сметанин Павел | F12: Черкашин | G12: офлайн
A13: ='29.10 (10-13)'!A13 -> 12 | B13: ='29.10 (10-13)'!B13 -> 11.50
A14: ='29.10 (10-13)'!A14 -> 13 | B14: ='29.10 (10-13)'!B14 -> 12.00 | C14: 93 | D14: Gun visor | E14: Гаманов Александр | F14: Буслаева | G14: офлайн
A15: ='29.10 (10-13)'!A15 -> 14 | B15: ='29.10 (10-13)'!B15 -> 12.10 | C15: 48 | D15: Разработка открытой фриланс-биржи | E15: Дудорев Денис | F15: Бунова | G15: онлайн
A16: ='29.10 (10-13)'!A16 -> 15 | B16: ='29.10 (10-13)'!B16 -> 12.20 | C16: 86 | D16: Онлайн-каталог рукописей русскоязычных авторов для издательств | E16: Сальманова Екатерина | F16: Болотова | G16: офлайн
A17: ='29.10 (10-13)'!A17 -> 16 | B17: ='29.10 (10-13)'!B17 -> 12.30 | C17: 80 | D17: Интеллектуальный дом | E17: Зачинов Радион | F17: Чекашин | G17: онлайн
A18: ='29.10 (10-13)'!A18 -> 17 | B18: ='29.10 (10-13)'!B18 -> 12.40 | C18: 27 | D18: Арена виртуальной реальности | F18: Эпп | G18: офлайн
A19: ='29.10 (10-13)'!A19 -> 18 | B19: ='29.10 (10-13)'!B19 -> 12.50 | C19: 38 | D19: Тандем | E19: Молодцев Иван | F19: Лысов | G19: офлайн

Sheet 30.10 (14-17)
A1: ='29.10 (10-13)'!A1 -> № п/п | B1: ='29.10 (10-13)'!B1 -> слот | C1: ='29.10 (10-13)'!C1 -> № команды | D1: ='29.10 (10-13)'!D1 -> Наименование команды | E1: ='29.10 (10-13)'!E1 -> Лидер | F1: ='29.10 (10-13)'!F1 -> Трекер | G1: ='29.10 (10-13)'!G1 -> формат
A2: ='29.10 (14-17)'!A2 -> 1 | B2: ='29.10 (14-17)'!B2 -> 14.00 | C2: 90 | D2: Умная теплица | E2: Потапова Дарья | F2: Соловьева | G2: онлайн
A3: ='29.10 (14-17)'!A3 -> 2 | B3: ='29.10 (14-17)'!B3 -> 14.10 | C3: 33 | D3: PeerCar | E3: Воронин Денис | F3: Никифорова | G3: офлайн
A4: ='29.10 (14-17)'!A4 -> 3 | B4: ='29.10 (14-17)'!B4 -> 14.20 | C4: 4 | D4: Virtual Rehab System | E4: Шамселов Артур | F4: Правдина | G4: офлайн
A5: ='29.10 (14-17)'!A5 -> 4 | B5: ='29.10 (14-17)'!B5 -> 14.30 | C5: 55 | D5: CopterOK | E5: Гайнулин Булат | F5: Пашнин | G5: онлайн
A6: ='29.10 (14-17)'!A6 -> 5 | B6: ='29.10 (14-17)'!B6 -> 14.40 | C6: 78 | D6: Реабилитационное устройство | E6: Фоминых Никита | F6: Пашнин | G6: офлайн
A7: ='29.10 (14-17)'!A7 -> 6 | B7: ='29.10 (14-17)'!B7 -> 14.50 | C7: 89 | D7: SulfoTech | E7: Савчук Никита | F7: Морозова | G7: офлайн
A8: ='29.10 (14-17)'!A8 -> 7 | B8: ='29.10 (14-17)'!B8 -> 15.00 | C8: 62 | D8: Berry of Cube | E8: Саргисьян Анастасия | F8: Голлай И. | G8: онлайн
A9: ='29.10 (14-17)'!A9 -> 8 | B9: ='29.10 (14-17)'!B9 -> 15.10 | C9: 82 | D9: Сайт студенческого фриланса "Студент-PRO" | E9: Петрас Евгения | F9: Правдина | G9: онлайн
A10: ='29.10 (14-17)'!A10 -> 9 | B10: ='29.10 (14-17)'!B10 -> 15.20 | C10: 81 | D10: ЭкоРелакс | E10: Селиверстов Даниил | F10: Дзензелюк | G10: онлайн
A11: ='29.10 (14-17)'!A11 -> 10 | B11: ='29.10 (14-17)'!B11 -> 15.30 | C11: 49 | D11: Платформа для тестирования ПО в телеграмм | E11: Голубенко Игорь | F11: Пискорский | G11: онлайн
A12: ='29.10 (14-17)'!A12 -> 11 | B12: ='29.10 (14-17)'!B12 -> 15.40 | C12: 32 | D12: Umi | E12: Леонов Кирилл | F12: Дзензелюк | G12: офлайн
A13: ='29.10 (14-17)'!A13 -> 12 | B13: ='29.10 (14-17)'!B13 -> 15.50 | C13: 21 | D13: DesEng - приложение по изучению английского языка для дизайнеров | E13: Завьялова Полина | F13: Ерофеева | G13: офлайн
... A19: ='29.10 (14-17)'!A19 -> 18 | B19: ='29.10 (14-17)'!B19 -> 16.50 | C19: 46 | D19: Alknow- база знаний с виртуальным помощником | E19: Кузьминых Владислав | F19: Буслаева | G19: офлайн
A20: 19 | B20: 17.00 | C20: 67 | E20: Ефимов Юрий | F20: Соловьева | G20: онлайн
